BEGIN:VCALENDAR
VERSION:2.0
PRODID:-//Esther Xu - ECPv6.15.11//NONSGML v1.0//EN
CALSCALE:GREGORIAN
METHOD:PUBLISH
X-WR-CALNAME:Esther Xu
X-ORIGINAL-URL:https://estherxu.com
X-WR-CALDESC:Events for Esther Xu
REFRESH-INTERVAL;VALUE=DURATION:PT1H
X-Robots-Tag:noindex
X-PUBLISHED-TTL:PT1H
BEGIN:VTIMEZONE
TZID:Australia/Melbourne
BEGIN:STANDARD
TZOFFSETFROM:+1100
TZOFFSETTO:+1000
TZNAME:AEST
DTSTART:20200404T160000
END:STANDARD
BEGIN:DAYLIGHT
TZOFFSETFROM:+1000
TZOFFSETTO:+1100
TZNAME:AEDT
DTSTART:20201003T160000
END:DAYLIGHT
BEGIN:STANDARD
TZOFFSETFROM:+1100
TZOFFSETTO:+1000
TZNAME:AEST
DTSTART:20210403T160000
END:STANDARD
BEGIN:DAYLIGHT
TZOFFSETFROM:+1000
TZOFFSETTO:+1100
TZNAME:AEDT
DTSTART:20211002T160000
END:DAYLIGHT
BEGIN:STANDARD
TZOFFSETFROM:+1100
TZOFFSETTO:+1000
TZNAME:AEST
DTSTART:20220402T160000
END:STANDARD
BEGIN:DAYLIGHT
TZOFFSETFROM:+1000
TZOFFSETTO:+1100
TZNAME:AEDT
DTSTART:20221001T160000
END:DAYLIGHT
END:VTIMEZONE
BEGIN:VEVENT
DTSTART;TZID=Australia/Melbourne:20210720T140000
DTEND;TZID=Australia/Melbourne:20210720T150000
DTSTAMP:20260425T164833
CREATED:20210424T032338Z
LAST-MODIFIED:20210424T032817Z
UID:2413-1626789600-1626793200@estherxu.com
SUMMARY:Whitehorse Manningham Libraries: Child\, can I tell you...
DESCRIPTION:Allow Esther to share her story of living with her mom in Australia during her treatment\, to explore ways to conduct open\, non-violent conversation between parents and adult children\, especially during pandemic. \nThe event will also share some simple strategies to help migrant parents take control of re-establishing their retirement life in Australia instead of just relying on adult children
URL:https://estherxu.com/event/whitehorse-manningham-libraries-child-can-i-tell-you/
LOCATION:The Pines Library\, Cnr Reynolds & Blackburn Roads\, Doncaster East\, Victoria\, 3109\, Australia
CATEGORIES:Offline Event
ATTACH;FMTTYPE=image/jpeg:https://estherxu.com/wp-content/uploads/2021/04/pexels-tim-douglas-6567366.jpg
END:VEVENT
BEGIN:VEVENT
DTSTART;TZID=Australia/Melbourne:20210619T133000
DTEND;TZID=Australia/Melbourne:20210619T150000
DTSTAMP:20260425T164833
CREATED:20210424T032010Z
LAST-MODIFIED:20210424T032841Z
UID:2410-1624109400-1624114800@estherxu.com
SUMMARY:Monash Libraries: My Hero’s Journey
DESCRIPTION:Coming soon…
URL:https://estherxu.com/event/monash-libraries-my-heros-journey/
LOCATION:Glen Waverley Library\, 112 Kingsway\, Glen Waverley\, Victoria\, 3150
CATEGORIES:Offline Event
ATTACH;FMTTYPE=image/jpeg:https://estherxu.com/wp-content/uploads/2021/03/miguel-bruna-h7qhDX6ExD4-unsplash.jpg
END:VEVENT
BEGIN:VEVENT
DTSTART;TZID=Australia/Melbourne:20210520T140000
DTEND;TZID=Australia/Melbourne:20210520T153000
DTSTAMP:20260425T164833
CREATED:20210331T062707Z
LAST-MODIFIED:20210424T031609Z
UID:2370-1621519200-1621524600@estherxu.com
SUMMARY:Boroondara Libraries: My Hero’s Journey
DESCRIPTION:Join Esther Xu to hear her transformative journey from being left isolated during her cancer treatment\, to courageously embarking on a 3-year healing quest that led her to find the authentic connections she always desired – with herself\, others\, and her higher power. She will explore the negative impact of some cultural beliefs on wellbeing\, and the need to promote open communication and mutual support within the family and the community to enable healing. You will be empowered to walk away with the courage to embark on your own hero’s journey. \nNote: this event will be held in Mandarin.
URL:https://estherxu.com/event/boroondara-libraries-my-heros-journey/
LOCATION:Kew Library\, Corner Cotham Road and Civic Drive\, Kew\, Victoria\, 3101\, Australia
CATEGORIES:Offline Event
ATTACH;FMTTYPE=image/jpeg:https://estherxu.com/wp-content/uploads/2021/03/miguel-bruna-h7qhDX6ExD4-unsplash.jpg
END:VEVENT
BEGIN:VEVENT
DTSTART;TZID=Australia/Melbourne:20210415T100000
DTEND;TZID=Australia/Melbourne:20210415T113000
DTSTAMP:20260425T164833
CREATED:20210331T054954Z
LAST-MODIFIED:20210331T055107Z
UID:2360-1618480800-1618486200@estherxu.com
SUMMARY:Darebin Intercultural Centre event: My Hero’s Journey
DESCRIPTION:What if the obstacle\, the challenge you are facing right now is actually the start of your Hero’s journey? What if you already have everything you need within you? To be the hero of your life\, or the victim? YOUR HAVE THE CHOICE! \nBack by popular demand\, the Intercultural Centre brings you Esther Xu\, a motivational speaker\, the messenger for Connection. She is on a mission to guide others to find connection in this age of disconnection\, challenging community by reducing isolation and promoting healing. \nDuring this interactive event\, you will be guided to discover the immensely powerful abilities we were born with\, that enable us to become the heroes of our own lives\, to realise our dreams and obstacles that we encounter. Learn messages of Connection\, Hope and Transformation. Be encouraged and empowered\, to walk away with the courage to embark on your own hero’s journey. \nDue to COVID-19 restrictions\, attendees are to bring their own refreshments including personal water bottle. Let the journey begin!
URL:https://estherxu.com/event/darebin-intercultural-centre-event-my-heros-journey-2/
LOCATION:Darebin Intercultural Centre\, 59a Roseberry Avenue\, Preston\, Victoria\, 3072\, Australia
CATEGORIES:Offline Event
ATTACH;FMTTYPE=image/jpeg:https://estherxu.com/wp-content/uploads/2021/03/https___cdn.evbuc_.com_images_128682337_33382538395_1_original.jpg
END:VEVENT
BEGIN:VEVENT
DTSTART;TZID=Australia/Melbourne:20210324T183000
DTEND;TZID=Australia/Melbourne:20210324T200000
DTSTAMP:20260425T164833
CREATED:20210331T053821Z
LAST-MODIFIED:20210331T054522Z
UID:2352-1616610600-1616616000@estherxu.com
SUMMARY:City of Whittlesea: Mum and Dad\, Can I Tell You…
DESCRIPTION:Was there something you wanted to tell your mum or dad but could not find the right words or the right time to say it? What if you lived far away\, in another country\, intertwined with another culture and did not see family as much as you once used to? What if you felt you couldn’t convey your messages to your family? \nThis event will explore how international students maintain connection with family back home and the different ways in which they choose to connect and communicate. \n𝐏𝐚𝐧𝐞𝐥𝐥𝐢𝐬𝐭𝐬:\nEsther Xu – Transformational Speaker\nAnushka Phal – Psychologist\nMarie Jossette – Jean-Francois Lavado – International Student\nWhittlesea International Student Wellbeing Hub Project\nSupported by Study Melbourne
URL:https://estherxu.com/event/city-of-whittlesea-mum-and-dad-can-i-tell-you/
LOCATION:The Great Hall\, Council offices\, 25 Ferres Boulevard\, South Morang\, Victoria\, 3052\, Australia
CATEGORIES:Offline Event,Panel discussion
ATTACH;FMTTYPE=image/jpeg:https://estherxu.com/wp-content/uploads/2021/03/159482623_283144713221016_801387809811014738_n.jpg
END:VEVENT
END:VCALENDAR